BEGIN:VCALENDAR
PRODID:-//eluceo/ical//2.0/EN
VERSION:2.0
CALSCALE:GREGORIAN
BEGIN:VEVENT
UID:799e1700353928c5b6e8e09488dfd5ad
DTSTAMP:20260419T214854Z
SUMMARY:Rotary Family Diner
DESCRIPTION:
URL:https://rotary2140.org/fr/agenda/show/65393
DTSTART;TZID=Europe/Zurich:20231202T193000
DTEND;TZID=Europe/Zurich:20231202T233000
LOCATION:Restaurant Volle Gas: Fernand Cocqplein 21\, 1050 Elsene
CATEGORIES:Rotary
END:VEVENT
BEGIN:VTIMEZONE
TZID:Europe/Zurich
BEGIN:STANDARD
DTSTART:20231202T193000
TZNAME:CET
TZOFFSETTO:+0100
TZOFFSETFROM:+0100
END:STANDARD
END:VTIMEZONE
END:VCALENDAR
