BEGIN:VCALENDAR
PRODID:-//eluceo/ical//2.0/EN
VERSION:2.0
CALSCALE:GREGORIAN
BEGIN:VEVENT
UID:7c5526de05ff1e62a279ea6c4232f3b9
DTSTAMP:20260420T030838Z
SUMMARY:🎥 Exclusieve Vertoning: "Napoleon"-Save The Date
DESCRIPTION:Site internet: https://heh-eet.be/
URL:https://rotary2140.org/fr/agenda/show/64404
DTSTART;TZID=Europe/Zurich:20231123T200000
DTEND;TZID=Europe/Zurich:20231123T200000
LOCATION:Hasselt
CATEGORIES:Rotary
END:VEVENT
BEGIN:VTIMEZONE
TZID:Europe/Zurich
BEGIN:STANDARD
DTSTART:20231123T200000
TZNAME:CET
TZOFFSETTO:+0100
TZOFFSETFROM:+0100
END:STANDARD
END:VTIMEZONE
END:VCALENDAR
